BEGIN:VCALENDAR
VERSION:2.0
PRODID:-//Gathering for Women - ECPv6.15.20//NONSGML v1.0//EN
CALSCALE:GREGORIAN
METHOD:PUBLISH
X-WR-CALNAME:Gathering for Women
X-ORIGINAL-URL:https://gatheringforwomen.org
X-WR-CALDESC:Events for Gathering for Women
REFRESH-INTERVAL;VALUE=DURATION:PT1H
X-Robots-Tag:noindex
X-PUBLISHED-TTL:PT1H
BEGIN:VTIMEZONE
TZID:America/Los_Angeles
BEGIN:DAYLIGHT
TZOFFSETFROM:-0800
TZOFFSETTO:-0700
TZNAME:PDT
DTSTART:20240310T100000
END:DAYLIGHT
BEGIN:STANDARD
TZOFFSETFROM:-0700
TZOFFSETTO:-0800
TZNAME:PST
DTSTART:20241103T090000
END:STANDARD
BEGIN:DAYLIGHT
TZOFFSETFROM:-0800
TZOFFSETTO:-0700
TZNAME:PDT
DTSTART:20250309T100000
END:DAYLIGHT
BEGIN:STANDARD
TZOFFSETFROM:-0700
TZOFFSETTO:-0800
TZNAME:PST
DTSTART:20251102T090000
END:STANDARD
BEGIN:DAYLIGHT
TZOFFSETFROM:-0800
TZOFFSETTO:-0700
TZNAME:PDT
DTSTART:20260308T100000
END:DAYLIGHT
BEGIN:STANDARD
TZOFFSETFROM:-0700
TZOFFSETTO:-0800
TZNAME:PST
DTSTART:20261101T090000
END:STANDARD
END:VTIMEZONE
BEGIN:VEVENT
DTSTART;TZID=America/Los_Angeles:20250727T180000
DTEND;TZID=America/Los_Angeles:20250727T200000
DTSTAMP:20260425T212219
CREATED:20250609T232859Z
LAST-MODIFIED:20250609T233511Z
UID:10000042-1753639200-1753646400@gatheringforwomen.org
SUMMARY:Live Charity Rock Concert for Gathering for Women
DESCRIPTION:Gathering for Women (“GFW”) is a 501(c)(3) nonprofit\, tax-exempt charitable organization founded by a remarkable group of volunteers. These early champions dedicated themselves to providing essential services to homeless women in our community. \nFrom the beginning\, their mission has been to create a warm\, welcoming space where women are treated with dignity and offered hope for a brighter future. Your tax-deductible ticket purchase will help expand GFW’s vital services. \n \nClick here to purchase tickets!\nWe invite you to be part of this great cause by joining us for an unforgettable evening of music and hope at the Monterey Marriott in Monterey\, California. \nThis in person event on July 27\, 2025 has limited capacity; is guaranteed to sell out and promises to be a memorable experience for music enthusiasts. \nGet ready to groove with an electrifying performance by an all-star group of international touring musicians who have generously donated their talent to perform together in a once in a lifetime event\, led by John Nymann and his personal friends. \nShow lineup: John Nymann – Guitar/ Vocals – Y&T Eric Martin – Guitar/ Vocals – EMB\, Mr. Big; Mike Vanderhule – Drums – Y&T Brad Lang – Bass – Bullet Boys/ Y&T Eric Barnett – Guitar – Points North; Stu Reynolds – Saxophone – Stu Reynold Saxtet/Latin Jazz Collective; and the ladies of the evening\, Elena Keating\, Vocalist and Pamela Arthur\, Vocals/Keyboards. \nBeverages and light food will be available for purchase during the show at the concert venue. \nAs a special added promotion\, present your event ticket\, and you will be entitled to a 20% discount on your dine-in experience at the Marriott’s Fin & Field Restaurant. This promotion is only available on the day of the show. \nPurchase your tickets today!
URL:https://gatheringforwomen.org/event/rockon2025/
LOCATION:Monterey Marriott\, 350 Calle Principal\, Monterey\, CA\, 93940\, United States
ATTACH;FMTTYPE=application/pdf:https://gatheringforwomen.org/wp-content/uploads/2025/06/JN-PROMO-PSTR.pdf
END:VEVENT
END:VCALENDAR