BEGIN:VCALENDAR
VERSION:2.0
PRODID:-//Gathering for Women - ECPv6.15.20//NONSGML v1.0//EN
CALSCALE:GREGORIAN
METHOD:PUBLISH
X-WR-CALNAME:Gathering for Women
X-ORIGINAL-URL:https://gatheringforwomen.org
X-WR-CALDESC:Events for Gathering for Women
REFRESH-INTERVAL;VALUE=DURATION:PT1H
X-Robots-Tag:noindex
X-PUBLISHED-TTL:PT1H
BEGIN:VTIMEZONE
TZID:America/Los_Angeles
BEGIN:DAYLIGHT
TZOFFSETFROM:-0800
TZOFFSETTO:-0700
TZNAME:PDT
DTSTART:20240310T100000
END:DAYLIGHT
BEGIN:STANDARD
TZOFFSETFROM:-0700
TZOFFSETTO:-0800
TZNAME:PST
DTSTART:20241103T090000
END:STANDARD
BEGIN:DAYLIGHT
TZOFFSETFROM:-0800
TZOFFSETTO:-0700
TZNAME:PDT
DTSTART:20250309T100000
END:DAYLIGHT
BEGIN:STANDARD
TZOFFSETFROM:-0700
TZOFFSETTO:-0800
TZNAME:PST
DTSTART:20251102T090000
END:STANDARD
BEGIN:DAYLIGHT
TZOFFSETFROM:-0800
TZOFFSETTO:-0700
TZNAME:PDT
DTSTART:20260308T100000
END:DAYLIGHT
BEGIN:STANDARD
TZOFFSETFROM:-0700
TZOFFSETTO:-0800
TZNAME:PST
DTSTART:20261101T090000
END:STANDARD
END:VTIMEZONE
BEGIN:VEVENT
DTSTART;TZID=America/Los_Angeles:20250901T080000
DTEND;TZID=America/Los_Angeles:20250930T170000
DTSTAMP:20260425T200828
CREATED:20250814T191133Z
LAST-MODIFIED:20250814T191200Z
UID:10000046-1756713600-1759251600@gatheringforwomen.org
SUMMARY:6th Annual Art & Craft Fair
DESCRIPTION:Join us for our 6th Annual Art & Craft Fair! \nEach year\, GFW hosts an Art & Craft Fair for the month of September featuring works from our guests\, and pieces donated by local\, professional artists. Our guests get 100% of the proceeds from their artwork or crafts sold\, and GFW uses proceeds from the local artists to support daily operations of the Day Center. \nIf you want to support GFW and our guests\, you can find all works for sale on our Etsy Shop. \nIf you want to shop in-person\, This year’s Kickoff event is on Saturday\, September 6th at Venture Gallery in Monterey. Stop by from 4-7 PM for food\, fun\, and free drinks as you peruse the pieces. \nGFW’s 6th Annual Art & Craft Fair will be available online for the entire month of September\, but don’t wait! Find your next favorite artwork now at Etsy.com/shop/GatheringForWomen! \n 
URL:https://gatheringforwomen.org/event/2025-art-fair/
LOCATION:CA
ATTACH;FMTTYPE=image/png:https://gatheringforwomen.org/wp-content/uploads/2025/08/GFW-Art-Exhibit-2.png
END:VEVENT
END:VCALENDAR