BEGIN:VCALENDAR
VERSION:2.0
PRODID:-//Gathering for Women - ECPv6.15.20//NONSGML v1.0//EN
CALSCALE:GREGORIAN
METHOD:PUBLISH
X-ORIGINAL-URL:https://gatheringforwomen.org
X-WR-CALDESC:Events for Gathering for Women
REFRESH-INTERVAL;VALUE=DURATION:PT1H
X-Robots-Tag:noindex
X-PUBLISHED-TTL:PT1H
BEGIN:VTIMEZONE
TZID:America/Los_Angeles
BEGIN:DAYLIGHT
TZOFFSETFROM:-0800
TZOFFSETTO:-0700
TZNAME:PDT
DTSTART:20240310T100000
END:DAYLIGHT
BEGIN:STANDARD
TZOFFSETFROM:-0700
TZOFFSETTO:-0800
TZNAME:PST
DTSTART:20241103T090000
END:STANDARD
BEGIN:DAYLIGHT
TZOFFSETFROM:-0800
TZOFFSETTO:-0700
TZNAME:PDT
DTSTART:20250309T100000
END:DAYLIGHT
BEGIN:STANDARD
TZOFFSETFROM:-0700
TZOFFSETTO:-0800
TZNAME:PST
DTSTART:20251102T090000
END:STANDARD
BEGIN:DAYLIGHT
TZOFFSETFROM:-0800
TZOFFSETTO:-0700
TZNAME:PDT
DTSTART:20260308T100000
END:DAYLIGHT
BEGIN:STANDARD
TZOFFSETFROM:-0700
TZOFFSETTO:-0800
TZNAME:PST
DTSTART:20261101T090000
END:STANDARD
END:VTIMEZONE
BEGIN:VEVENT
DTSTART;VALUE=DATE:20251113
DTEND;VALUE=DATE:20260101
DTSTAMP:20260423T225947
CREATED:20251104T225723Z
LAST-MODIFIED:20251104T225723Z
UID:10000049-1762992000-1767225599@gatheringforwomen.org
SUMMARY:Monterey County Gives!
DESCRIPTION:It’s time for Monterey County Gives! This year\, our MC Gives campaign is focusing on Rising to the Occasion: Meeting the Newly Increased Needs of our County.\nGFW has seen a 25% increase in our daily attendance this year\, and our basic services like showers\, clothing\, and toiletry items have all increased the same. Most shockingly\, our meals have increased by over 60% this year! We are proud to be a source of support for our community as more and more people find they must choose between food and rent – but we need your help to keep up with these needs! \nCLICK HERE TO SUPPORT GFW\nYour support this year means more than ever before. With federal funding cuts putting many nonprofits in limbo\, it’s private donations that are keeping GFW going. While our vital case managers and housing navigators are supported by state and federal funding\, those potential losses are made up through the kindness and generosity of our community support. The GFW Team is thankful for each and every one of our supporters – past\, present\, and future – for getting us started\, keeping us going\, and now supporting us through these times of uncertainty. We could not do it without you! \n\n\nIf you want to show your support for GFW’s Big Idea\, you can find us at our MC Gives page! Looking for ways to make your donation go further? Trying to get a last-minute donation in for a tax deduction? Been thinking about donating but just haven’t yet? Look no further! Each year\, the MC Gives Match allows your dollar to go further\, by providing a matching donation to the nonprofit of your choice. That means for every dollar you donate\, the organization gets your donation + a matching donation! It’s two for the price of one! \nFor more information on GFW\, MC Gives\, or other resources in our community\, you can learn more on GFW’s Blog\, follow GFW on our Facebook or Instagram pages\, or join our newsletter as we update you with more resources and information. Help spread the word and raise awareness for your favorite local nonprofits\, and join Monterey County through the MC Gives campaign from now through December 31\, 2025!
URL:https://gatheringforwomen.org/event/montereycountygives/
LOCATION:GFW Day Center\, 147 El Dorado St.\, Monterey\, CA\, 93940\, United States
ATTACH;FMTTYPE=image/png:https://gatheringforwomen.org/wp-content/uploads/2025/11/2025-GFW-MC-Gives-10.375-x-11.25-in.png
ORGANIZER;CN="Gathering for Women - Monterey":MAILTO:volunteer@gatheringforwomen.org
END:VEVENT
END:VCALENDAR