BEGIN:VCALENDAR
VERSION:2.0
PRODID:-//Gathering for Women - ECPv6.15.20//NONSGML v1.0//EN
CALSCALE:GREGORIAN
METHOD:PUBLISH
X-WR-CALNAME:Gathering for Women
X-ORIGINAL-URL:https://gatheringforwomen.org
X-WR-CALDESC:Events for Gathering for Women
REFRESH-INTERVAL;VALUE=DURATION:PT1H
X-Robots-Tag:noindex
X-PUBLISHED-TTL:PT1H
BEGIN:VTIMEZONE
TZID:America/Los_Angeles
BEGIN:DAYLIGHT
TZOFFSETFROM:-0800
TZOFFSETTO:-0700
TZNAME:PDT
DTSTART:20250309T100000
END:DAYLIGHT
BEGIN:STANDARD
TZOFFSETFROM:-0700
TZOFFSETTO:-0800
TZNAME:PST
DTSTART:20251102T090000
END:STANDARD
BEGIN:DAYLIGHT
TZOFFSETFROM:-0800
TZOFFSETTO:-0700
TZNAME:PDT
DTSTART:20260308T100000
END:DAYLIGHT
BEGIN:STANDARD
TZOFFSETFROM:-0700
TZOFFSETTO:-0800
TZNAME:PST
DTSTART:20261101T090000
END:STANDARD
BEGIN:DAYLIGHT
TZOFFSETFROM:-0800
TZOFFSETTO:-0700
TZNAME:PDT
DTSTART:20270314T100000
END:DAYLIGHT
BEGIN:STANDARD
TZOFFSETFROM:-0700
TZOFFSETTO:-0800
TZNAME:PST
DTSTART:20271107T090000
END:STANDARD
END:VTIMEZONE
BEGIN:VEVENT
DTSTART;TZID=America/Los_Angeles:20260207T110000
DTEND;TZID=America/Los_Angeles:20260207T170000
DTSTAMP:20260423T213218
CREATED:20260108T172915Z
LAST-MODIFIED:20260130T174530Z
UID:10000053-1770462000-1770483600@gatheringforwomen.org
SUMMARY:Souper Saturday
DESCRIPTION:Enjoy award-winning clam chowder from Old Fisherman’s Grotto & The Fish Hopper while supporting Shuman HeartHouse and Casa de Noche Buena. \nSouper Saturday | Saturday\, February 7\, 2026 | Shuman Heart House\, Monterey \nBrought to you by Gathering for Women and Community Human Services to benefit the Monterey Peninsula’s only shelters for women and families experiencing homelessness. Order your meal here! \n\n\n\nTakeout meal includes clam chowder\, sourdough bread\, packaged salad & dessert. \n16 oz. $40 Feeds 1 – 2 \n32 oz. $75 Feeds 2 – 4 \nClick here to pre-order by Friday\, January 30! \nSelect pick-up window between 11 am – 5 pm. \nDrive-through pick-up at Shuman HeartHouse Feb. 7. \nEnter at 300 E. Franklin St. & exit on Anthony.
URL:https://gatheringforwomen.org/event/souper-saturday/
LOCATION:Shuman HeartHouse\, 300 E. Franklin St.\, Monterey\, CA\, 93940\, United States
ATTACH;FMTTYPE=image/png:https://gatheringforwomen.org/wp-content/uploads/2026/01/Souperbowl-Saturday-Flyer-2.png
END:VEVENT
END:VCALENDAR