BEGIN:VCALENDAR
VERSION:2.0
PRODID:-//Gathering for Women - ECPv6.15.20//NONSGML v1.0//EN
CALSCALE:GREGORIAN
METHOD:PUBLISH
X-WR-CALNAME:Gathering for Women
X-ORIGINAL-URL:https://gatheringforwomen.org
X-WR-CALDESC:Events for Gathering for Women
REFRESH-INTERVAL;VALUE=DURATION:PT1H
X-Robots-Tag:noindex
X-PUBLISHED-TTL:PT1H
BEGIN:VTIMEZONE
TZID:America/Los_Angeles
BEGIN:DAYLIGHT
TZOFFSETFROM:-0800
TZOFFSETTO:-0700
TZNAME:PDT
DTSTART:20250309T100000
END:DAYLIGHT
BEGIN:STANDARD
TZOFFSETFROM:-0700
TZOFFSETTO:-0800
TZNAME:PST
DTSTART:20251102T090000
END:STANDARD
BEGIN:DAYLIGHT
TZOFFSETFROM:-0800
TZOFFSETTO:-0700
TZNAME:PDT
DTSTART:20260308T100000
END:DAYLIGHT
BEGIN:STANDARD
TZOFFSETFROM:-0700
TZOFFSETTO:-0800
TZNAME:PST
DTSTART:20261101T090000
END:STANDARD
BEGIN:DAYLIGHT
TZOFFSETFROM:-0800
TZOFFSETTO:-0700
TZNAME:PDT
DTSTART:20270314T100000
END:DAYLIGHT
BEGIN:STANDARD
TZOFFSETFROM:-0700
TZOFFSETTO:-0800
TZNAME:PST
DTSTART:20271107T090000
END:STANDARD
END:VTIMEZONE
BEGIN:VEVENT
DTSTART;TZID=America/Los_Angeles:20260308T130000
DTEND;TZID=America/Los_Angeles:20260308T150000
DTSTAMP:20260424T002117
CREATED:20260223T170042Z
LAST-MODIFIED:20260223T170042Z
UID:10000056-1772974800-1772982000@gatheringforwomen.org
SUMMARY:International Women's Day Celebration
DESCRIPTION:Join us for a free event celebrating International Women’s Day! Hosted by the Monterey County Commission on the Status of Women and Monterey Peninsula College.
URL:https://gatheringforwomen.org/event/international-womens-day-celebration/
LOCATION:Monterey Peninsula College\, 980 Fremont St.\, Monterey\, CA\, 93940\, United States
ATTACH;FMTTYPE=application/pdf:https://gatheringforwomen.org/wp-content/uploads/2026/02/IWD-2026-1.pdf
END:VEVENT
BEGIN:VEVENT
DTSTART;TZID=America/Los_Angeles:20260404T190000
DTEND;TZID=America/Los_Angeles:20260404T210000
DTSTAMP:20260424T002117
CREATED:20260312T174515Z
LAST-MODIFIED:20260312T174515Z
UID:10000057-1775329200-1775336400@gatheringforwomen.org
SUMMARY:831 Cares Night & Teddy Bear Toss!
DESCRIPTION:It’s two for the price of one! Join us for the Teddy Bear Toss at Monterey Bay FC vs. San Antonio FC and donate a teddy bear or stuffed animal to children supported through Jacob’s Heart Children’s Cancer Support Services and your ticket price is donated to GFW! Supporting two amazing causes in one night! \nWhat: Monterey Bay FC vs. San Antonio FC \nWhen: April 4\, 2026\, 7:00 PM \nWhere: Cardinale Stadium \nTickets: $27 each – CLICK HERE to purchase \nScan the QR Code on the flyer or CLICK HERE to purchase your tickets to support GFW and Jacob’s Heart at the same time\, and don’t forget to stop by and say hi at our table prior to the game – we love to connect with our incredible supporters! \n 
URL:https://gatheringforwomen.org/event/831-cares-night-teddy-bear-toss/
LOCATION:Cardinale  Stadium\, 4111 2nd Ave.\, Seaside\, CA\, 93955\, United States
ATTACH;FMTTYPE=application/pdf:https://gatheringforwomen.org/wp-content/uploads/2026/03/Gathering-for-Women-Flyer-April-4th.pdf
END:VEVENT
END:VCALENDAR