BEGIN:VCALENDAR
VERSION:2.0
PRODID:-//Gathering for Women - ECPv6.15.20//NONSGML v1.0//EN
CALSCALE:GREGORIAN
METHOD:PUBLISH
X-WR-CALNAME:Gathering for Women
X-ORIGINAL-URL:https://gatheringforwomen.org
X-WR-CALDESC:Events for Gathering for Women
REFRESH-INTERVAL;VALUE=DURATION:PT1H
X-Robots-Tag:noindex
X-PUBLISHED-TTL:PT1H
BEGIN:VTIMEZONE
TZID:America/Los_Angeles
BEGIN:DAYLIGHT
TZOFFSETFROM:-0800
TZOFFSETTO:-0700
TZNAME:PDT
DTSTART:20170312T100000
END:DAYLIGHT
BEGIN:STANDARD
TZOFFSETFROM:-0700
TZOFFSETTO:-0800
TZNAME:PST
DTSTART:20171105T090000
END:STANDARD
BEGIN:DAYLIGHT
TZOFFSETFROM:-0800
TZOFFSETTO:-0700
TZNAME:PDT
DTSTART:20180311T100000
END:DAYLIGHT
BEGIN:STANDARD
TZOFFSETFROM:-0700
TZOFFSETTO:-0800
TZNAME:PST
DTSTART:20181104T090000
END:STANDARD
BEGIN:DAYLIGHT
TZOFFSETFROM:-0800
TZOFFSETTO:-0700
TZNAME:PDT
DTSTART:20190310T100000
END:DAYLIGHT
BEGIN:STANDARD
TZOFFSETFROM:-0700
TZOFFSETTO:-0800
TZNAME:PST
DTSTART:20191103T090000
END:STANDARD
BEGIN:DAYLIGHT
TZOFFSETFROM:-0800
TZOFFSETTO:-0700
TZNAME:PDT
DTSTART:20200308T100000
END:DAYLIGHT
BEGIN:STANDARD
TZOFFSETFROM:-0700
TZOFFSETTO:-0800
TZNAME:PST
DTSTART:20201101T090000
END:STANDARD
END:VTIMEZONE
BEGIN:VEVENT
DTSTART;VALUE=DATE:20190404
DTEND;VALUE=DATE:20190405
DTSTAMP:20260424T000228
CREATED:20240301T205339Z
LAST-MODIFIED:20240301T210037Z
UID:10000023-1554336000-1554422399@gatheringforwomen.org
SUMMARY:Community Breakfast
DESCRIPTION:[vc_row][vc_column width=”2/3″][vc_column_text]Our April 2019 Community Breakfast event sold out! Please consider supporting Gathering for Women with a donation HERE![/vc_column_text][vc_column_text] \nEvent Photos by Randy Tunnell\n[/vc_column_text][vc_masonry_media_grid element_width=”3″ grid_id=”vc_gid:1709326583102-b929eaee-6e06-3″ include=”191\,189\,188\,187\,186\,185\,184\,183″][/vc_column][vc_column width=”1/3″][vc_single_image image=”195″ img_size=”large” alignment=”center” onclick=”link_image”][/vc_column][/vc_row][vc_row][vc_column][/vc_column][/vc_row]
URL:https://gatheringforwomen.org/event/community-breakfast/
ATTACH;FMTTYPE=image/jpeg:https://gatheringforwomen.org/wp-content/uploads/2024/03/tun-2901_orig.jpg
END:VEVENT
BEGIN:VEVENT
DTSTART;TZID=America/Los_Angeles:20180712T160000
DTEND;TZID=America/Los_Angeles:20180712T180000
DTSTAMP:20260424T000228
CREATED:20240301T215148Z
LAST-MODIFIED:20240301T215148Z
UID:10000024-1531411200-1531418400@gatheringforwomen.org
SUMMARY:Ribbon Cutting & Open House
DESCRIPTION:[vc_row][vc_column][vc_column_text] \nThank you to all who attended our Ribbon Cutting & Open House in 2018\n[/vc_column_text][vc_masonry_media_grid element_width=”3″ grid_id=”vc_gid:1709329688510-128e1d8a-912e-3″ include=”237\,201\,200\,199\,198\,202\,240\,236\,235\,234\,233\,225\,226\,227\,228\,229\,230\,231\,224\,223\,222\,221\,220\,219\,218\,217\,209\,210\,211\,212\,213\,214\,215\,216\,208\,207\,206\,205\,204\,203″][/vc_column][/vc_row]
URL:https://gatheringforwomen.org/event/ribbon-cutting-open-house/
ATTACH;FMTTYPE=image/jpeg:https://gatheringforwomen.org/wp-content/uploads/2024/03/ribbon-cutting-open-house-2018.jpg
END:VEVENT
BEGIN:VEVENT
DTSTART;VALUE=DATE:20180301
DTEND;VALUE=DATE:20180302
DTSTAMP:20260424T000228
CREATED:20240301T204122Z
LAST-MODIFIED:20240301T204157Z
UID:10000022-1519862400-1519948799@gatheringforwomen.org
SUMMARY:Gathering of Hearts Luncheon
DESCRIPTION:[vc_row][vc_column][vc_column_text]The Gathering of Hearts luncheon is one of GFW’s signature events. The luncheon brings together top supporters and community members who are interested in learning more about our work on the Peninsula. Hosted by GFW supporter Donna Ferraro\, the meal and view is always stunning and the program\, moving.\nPlease consider supporting Gathering for Women with a donation HERE![/vc_column_text][vc_masonry_media_grid element_width=”6″ grid_id=”vc_gid:1709325559226-f42f6a52-c729-1″ include=”178\,180″][/vc_column][/vc_row]
URL:https://gatheringforwomen.org/event/gathering-of-hearts-luncheon-spring-2018/
ATTACH;FMTTYPE=image/jpeg:https://gatheringforwomen.org/wp-content/uploads/2024/03/gathering-of-hearts-spring-2018-crop-2_orig.jpg
END:VEVENT
END:VCALENDAR