BEGIN:VCALENDAR
VERSION:2.0
PRODID:-//Gathering for Women - ECPv6.15.20//NONSGML v1.0//EN
CALSCALE:GREGORIAN
METHOD:PUBLISH
X-WR-CALNAME:Gathering for Women
X-ORIGINAL-URL:https://gatheringforwomen.org
X-WR-CALDESC:Events for Gathering for Women
REFRESH-INTERVAL;VALUE=DURATION:PT1H
X-Robots-Tag:noindex
X-PUBLISHED-TTL:PT1H
BEGIN:VTIMEZONE
TZID:America/Los_Angeles
BEGIN:DAYLIGHT
TZOFFSETFROM:-0800
TZOFFSETTO:-0700
TZNAME:PDT
DTSTART:20230312T100000
END:DAYLIGHT
BEGIN:STANDARD
TZOFFSETFROM:-0700
TZOFFSETTO:-0800
TZNAME:PST
DTSTART:20231105T090000
END:STANDARD
BEGIN:DAYLIGHT
TZOFFSETFROM:-0800
TZOFFSETTO:-0700
TZNAME:PDT
DTSTART:20240310T100000
END:DAYLIGHT
BEGIN:STANDARD
TZOFFSETFROM:-0700
TZOFFSETTO:-0800
TZNAME:PST
DTSTART:20241103T090000
END:STANDARD
BEGIN:DAYLIGHT
TZOFFSETFROM:-0800
TZOFFSETTO:-0700
TZNAME:PDT
DTSTART:20250309T100000
END:DAYLIGHT
BEGIN:STANDARD
TZOFFSETFROM:-0700
TZOFFSETTO:-0800
TZNAME:PST
DTSTART:20251102T090000
END:STANDARD
END:VTIMEZONE
BEGIN:VEVENT
DTSTART;TZID=America/Los_Angeles:20240824T100000
DTEND;TZID=America/Los_Angeles:20240824T150000
DTSTAMP:20260423T092939
CREATED:20240611T175502Z
LAST-MODIFIED:20240611T175651Z
UID:10000034-1724493600-1724511600@gatheringforwomen.org
SUMMARY:Nice! Women's Consignment End of Summer Sale!
DESCRIPTION:Nice! Women’s Consignment is hosting it’s 2nd Annual end of Summer Sale to benefit GFW! Come shop on Saturday\, August 24th 10 AM – 3 PM and 25% of the proceeds from the outdoor sale will benefit Gathering for Women – Monterey!
URL:https://gatheringforwomen.org/event/nice-womens-consignment-end-of-summer-sale/
LOCATION:Nice! Women’s Consignment\, 850 Munras Ave.\, Monterey\, CA\, 93940\, United States
ATTACH;FMTTYPE=image/jpeg:https://gatheringforwomen.org/wp-content/uploads/2024/06/Nice-Consignment-sale.jpg
END:VEVENT
END:VCALENDAR